BEGIN:VCALENDAR
VERSION:2.0
PRODID:-//Horizon Fertilizers - ECPv6.15.9//NONSGML v1.0//EN
CALSCALE:GREGORIAN
METHOD:PUBLISH
X-WR-CALNAME:Horizon Fertilizers
X-ORIGINAL-URL:https://horizonfertilizers.com
X-WR-CALDESC:Events for Horizon Fertilizers
REFRESH-INTERVAL;VALUE=DURATION:PT1H
X-Robots-Tag:noindex
X-PUBLISHED-TTL:PT1H
BEGIN:VTIMEZONE
TZID:America/New_York
BEGIN:DAYLIGHT
TZOFFSETFROM:-0500
TZOFFSETTO:-0400
TZNAME:EDT
DTSTART:20220313T070000
END:DAYLIGHT
BEGIN:STANDARD
TZOFFSETFROM:-0400
TZOFFSETTO:-0500
TZNAME:EST
DTSTART:20221106T060000
END:STANDARD
BEGIN:DAYLIGHT
TZOFFSETFROM:-0500
TZOFFSETTO:-0400
TZNAME:EDT
DTSTART:20230312T070000
END:DAYLIGHT
BEGIN:STANDARD
TZOFFSETFROM:-0400
TZOFFSETTO:-0500
TZNAME:EST
DTSTART:20231105T060000
END:STANDARD
BEGIN:DAYLIGHT
TZOFFSETFROM:-0500
TZOFFSETTO:-0400
TZNAME:EDT
DTSTART:20240310T070000
END:DAYLIGHT
BEGIN:STANDARD
TZOFFSETFROM:-0400
TZOFFSETTO:-0500
TZNAME:EST
DTSTART:20241103T060000
END:STANDARD
END:VTIMEZONE
BEGIN:VEVENT
DTSTART;TZID=America/New_York:20230308T093000
DTEND;TZID=America/New_York:20230308T133000
DTSTAMP:20260421T152157
CREATED:20230303T194247Z
LAST-MODIFIED:20230303T195907Z
UID:2717-1678267800-1678282200@horizonfertilizers.com
SUMMARY:Cudworth Lunch & Learn
DESCRIPTION:On Wednesday March 8th\, our Cudworth location will be holding a Lunch & Learn Day! \nStarting at 9:30am we have Winfield conducting a spray clinic where they’ll discuss the best way to optimize your tank mix and nozzles. Lunch will be provided then Timac Agro will present from 12:30-1pm on their nitrogen stabilizers. Saskatchewan Watersheds will close the meeting by discussing the Prairie Watersheds Climate Program and application details. \nIf you are interested in attending\, please RSVP to Ty at 306-213-8090 by Monday March 6th.
URL:https://horizonfertilizers.com/event/cudworth-lunch-learn/
LOCATION:Cudworth Hall\, Cudworth\, Saskatchewan\, Canada
CATEGORIES:Meeting
ATTACH;FMTTYPE=image/jpeg:https://horizonfertilizers.com/wp-content/uploads/2023/03/Copy-of-Facebook-template-1-e1677872494821.jpg
END:VEVENT
END:VCALENDAR