BEGIN:VCALENDAR
VERSION:2.0
PRODID:-//Horizon Fertilizers - ECPv6.15.9//NONSGML v1.0//EN
CALSCALE:GREGORIAN
METHOD:PUBLISH
X-ORIGINAL-URL:https://horizonfertilizers.com
X-WR-CALDESC:Events for Horizon Fertilizers
REFRESH-INTERVAL;VALUE=DURATION:PT1H
X-Robots-Tag:noindex
X-PUBLISHED-TTL:PT1H
BEGIN:VTIMEZONE
TZID:America/New_York
BEGIN:DAYLIGHT
TZOFFSETFROM:-0500
TZOFFSETTO:-0400
TZNAME:EDT
DTSTART:20220313T070000
END:DAYLIGHT
BEGIN:STANDARD
TZOFFSETFROM:-0400
TZOFFSETTO:-0500
TZNAME:EST
DTSTART:20221106T060000
END:STANDARD
BEGIN:DAYLIGHT
TZOFFSETFROM:-0500
TZOFFSETTO:-0400
TZNAME:EDT
DTSTART:20230312T070000
END:DAYLIGHT
BEGIN:STANDARD
TZOFFSETFROM:-0400
TZOFFSETTO:-0500
TZNAME:EST
DTSTART:20231105T060000
END:STANDARD
BEGIN:DAYLIGHT
TZOFFSETFROM:-0500
TZOFFSETTO:-0400
TZNAME:EDT
DTSTART:20240310T070000
END:DAYLIGHT
BEGIN:STANDARD
TZOFFSETFROM:-0400
TZOFFSETTO:-0500
TZNAME:EST
DTSTART:20241103T060000
END:STANDARD
END:VTIMEZONE
BEGIN:VEVENT
DTSTART;TZID=America/New_York:20230301T100000
DTEND;TZID=America/New_York:20230301T150000
DTSTAMP:20260420T065423
CREATED:20230109T213612Z
LAST-MODIFIED:20230110T164121Z
UID:872-1677664800-1677682800@horizonfertilizers.com
SUMMARY:FCC Young Farmer Summit
DESCRIPTION:The FCC Young Farmer Summit is a free event for anyone under 40 involved in agriculture and food. Get real-world advice from engaging speakers\, network with peers and take control of your business journey. \n\n\nAgenda\n10:00 am – Kickoff with emcee Katelyn Duban  \n10:10 am – Dale Curd  \n11:10 am – Evan Shout  \n12:00 pm – Lunch  \n1:10 pm – Welcome back \n1:15 pm – Danielle Wildfong  \n2:15 pm – Emily O’Brien  \n3:00 pm – Conclusion and networking reception (cash bar)  \n\n\n\n\nFeatured speakers:\nEvent hosted by Katelyn Duban  \nDale Curd: Why Aren’t We Connecting? The Keys to Collaborative and Effective Teams  \nDale Curd has spent his life listening deeply and empathetically. In this talk\, he outlines key steps to ensure we are connecting better as teams – from active listening\, stronger questions to different body language\, he has the tips\, tricks and research to lead to immediate outcomes. \nEvan Shout: Young\, Broke\, and in Love: How to navigate financial risk in farming  \nToday’s primary producers face several decisions each day that could have a material effect on profits and operations. They have to tackle financial topics such as working capital\, cost of production\, and margin efficiencies\, as well as operational complexities such as human resources\, machinery optimization\, and succession and transition. How do young farmers today make decisions in this volatile market? We will take you on the journey of risk mitigation across many aspects of farming\, demonstrating “boots on the ground” solutions to everyday problems. You’ll learn how financial success is linked to team members\, and how to find strength and freedom in the theory of “Young\, Broke\, and in Love.” \nDanielle Wildfong: Relationships are the new bottom line at your farm  \nRelationships can make or break a family farm; at core of all conflicts lies an imbalance of love and respect\, trust and honesty\, or control and power. We will explore the most common challenges in family business and learn how to build relationship equity in your family business and protect what’s most important to you. \nEmily O’Brien: Entrepreneurship & Emotional Profit  \nThe hardest part about creating your own business is getting started. Fear leads to doubt\, doubt leads to excuses and excuses lead to failure before you even begin. Emily O’Brien started Cons & Kernels (now Comeback Snacks) in prison\, without access to the internet\, without the ability to test her market\, and a consumer base that might be apprehensive about doing business with a convict. Learn how she stayed determined and created a business that provides her emotional profit by helping others.
URL:https://horizonfertilizers.com/event/fcc-young-farmer-summit/
LOCATION:Painted Hand Casino\, 510 Broadway Street W\, Yorkton\, Saskatchewan\, S3N 0P3\, Canada
CATEGORIES:Conference
ATTACH;FMTTYPE=image/png:https://horizonfertilizers.com/wp-content/uploads/2023/01/Screen-Shot-2023-01-09-at-3.37.36-PM.png
END:VEVENT
BEGIN:VEVENT
DTSTART;TZID=America/New_York:20230301T183000
DTEND;TZID=America/New_York:20230301T210000
DTSTAMP:20260420T065423
CREATED:20230227T153000Z
LAST-MODIFIED:20230227T153220Z
UID:2582-1677695400-1677704400@horizonfertilizers.com
SUMMARY:The Biotech Explosion: Amazing Innovations in Agriculture & Medicine
DESCRIPTION:Dr. Folta will be joining Ag-West Bio in Saskatoon to talk about the amazing innovations that have become possible thanks to biotech tools\, like genetic engineering\, gene editing and genomics. \nWe have the technology – but consumers need to understand their value and safety. How can we use communications tools and social media to ensure that we can actually use those technologies? \n_____________________ \nSpeaker Info: \nKevin Folta is a professor and researcher in the horticultural sciences department at the University of Florida. He also produces Talking Biotech\, a weekly podcast that explores how science and technology will transform agriculture and protect the environment\, while helping to feed a growing global population. \nTo purchase tickets and register for the event\, click on the link at the bottom of the page.
URL:https://horizonfertilizers.com/event/the-biotech-explosion/
LOCATION:The Roxy Theatre\, 302 Pacific Ave\, Saskatoon\, Saskatchewan\, S7K 1P2\, Canada
CATEGORIES:Meeting
ATTACH;FMTTYPE=image/jpeg:https://horizonfertilizers.com/wp-content/uploads/2023/02/Black-Modern-Coming-Soon-Twitter-Post.jpg
END:VEVENT
BEGIN:VEVENT
DTSTART;TZID=America/New_York:20230302T100000
DTEND;TZID=America/New_York:20230302T143000
DTSTAMP:20260420T065423
CREATED:20230109T212435Z
LAST-MODIFIED:20230110T164107Z
UID:858-1677751200-1677767400@horizonfertilizers.com
SUMMARY:Saskatchewan Pulse Growers Meeting - Northeast\, SK
DESCRIPTION:Saskatchewan Pulse Growers invites you to join us for the 2023 Half-Day Winter Pulse Meeting at the Kerry Vickar Centre in Melfort\, SK. To register\, click on the website link below. Pre-registration is encouraged\, but not required. \nAgenda\n\n9:45 AM | Registration opens\n10:00 AM | Opening Remarks & Introductions\n10:10 AM | Agronomic Lookback & Outlook – Meagen Reed\, Agronomy Manager\, SPG\n10:30 AM | Right Genetics\, Right Place: RVT Portal & the Pulse Quality Program – Meagen Reed\, Agronomy Manager\, SPG\n10:50 AM | Aphids in Faba Beans – Dr. Sean Prager\, Department of Plant Science\, University of Saskatchewan\n11:20 AM | Phosphate Study – Blake Weiseth\, Applied Research Lead\, Glacier Farm Media Discovery Farm\n11:50 PM | Lunch\n12:25 PM | Root Rots: Current Situation & SPG Investments – Dr. Michelle Hubbard\, Research Scientist\, Pulse Pathology\, Agriculture and Agri-Food Canada\n1:10 PM | Novel Pulse Crops: A Pulse for Every Acre & Opportunities – Robin Lokken\, General Manager\, Conservation Learning Centre\n1:25 PM | Faba Beans: Research\, Agronomy\, & Opportunities – Dale Risula\n1:45 PM | Pulse Market Outlook – Marlene Boersch\, Owner & Managing Partner\, Mercantile Consulting Venture Inc.\n2:25 PM | Closing Remarks
URL:https://horizonfertilizers.com/event/saskatchewan-pulse-growers-meeting-northeast-sk/
LOCATION:The Kerry Vickar Centre\, 206 Bemister Ave E\, Melfort\, Saskatchewan\, S0E1A0\, Canada
CATEGORIES:Meeting
ATTACH;FMTTYPE=image/jpeg:https://horizonfertilizers.com/wp-content/uploads/2023/01/IMG_3230-e1673299410460.jpg
END:VEVENT
BEGIN:VEVENT
DTSTART;TZID=America/New_York:20230302T110000
DTEND;TZID=America/New_York:20230302T120000
DTSTAMP:20260420T065423
CREATED:20230202T224219Z
LAST-MODIFIED:20230202T224219Z
UID:2091-1677754800-1677758400@horizonfertilizers.com
SUMMARY:Provincial Disease Update 2023
DESCRIPTION:Dr. Alireza Akhavan\, the Provincial Plant Disease Specialist with Saskatchewan Agricultue will give an update on the projected field disease pressure for 2023. \n 
URL:https://horizonfertilizers.com/event/provincial-disease-update-2023/
LOCATION:Saskatchewan
CATEGORIES:Webinar
ATTACH;FMTTYPE=image/jpeg:https://horizonfertilizers.com/wp-content/uploads/2023/02/Untitled-design-3.jpg
END:VEVENT
BEGIN:VEVENT
DTSTART;VALUE=DATE:20230307
DTEND;VALUE=DATE:20230309
DTSTAMP:20260420T065423
CREATED:20230109T210535Z
LAST-MODIFIED:20230110T164005Z
UID:850-1678147200-1678319999@horizonfertilizers.com
SUMMARY:Soils and Crops Conference 2023
DESCRIPTION:The Soils and Crops Workshop began in 1965 and has been offered annually for over 50 years.  The annual workshop is a two day event presenting updates on current research being conducted in the areas of soils\, crops and economics by researchers\, faculty and graduate students from across western Canada. The second day offers a workshop based on invited presentations designed to provide in-depth training on a variety of topics emphasizing agronomy. \nThe Saskatchewan Institute of Agrologists (SIA) and the Certified Crop Advisor (CCA) program recognize this event as a professional development opportunity.
URL:https://horizonfertilizers.com/event/soils-and-crops-conference-2023/
LOCATION:Prairieland Park\, 503 Ruth St. W\, Saskatoon\, Saskatchewan\, S7K4E4\, Canada
CATEGORIES:Conference,Webinar
ATTACH;FMTTYPE=image/jpeg:https://horizonfertilizers.com/wp-content/uploads/2023/01/IMG_2946-e1673298270343.jpg
END:VEVENT
BEGIN:VEVENT
DTSTART;TZID=America/New_York:20230307T120000
DTEND;TZID=America/New_York:20230307T140000
DTSTAMP:20260420T065423
CREATED:20230224T200947Z
LAST-MODIFIED:20230224T201216Z
UID:2467-1678190400-1678197600@horizonfertilizers.com
SUMMARY:Managing Integrated Livestock\, Feed\, and Crop Production Systems
DESCRIPTION:On March 7th\, Dr. Bart Lardner will provide learnings from his decades of research regarding extensive grazing systems and Duane Thompson will share real-life experiences from managing integrated livestock\, feed\, and crop production systems at the Tee Two Land and Cattle company located near Kelliher\, SK. To register for this session\, click on the link at the bottom of the page.
URL:https://horizonfertilizers.com/event/managing-integrated-livestock-feed-and-crop-production-systems/
LOCATION:Virtual
CATEGORIES:Webinar
ATTACH;FMTTYPE=image/jpeg:https://horizonfertilizers.com/wp-content/uploads/2023/02/Untitled-design-3.jpg
END:VEVENT
BEGIN:VEVENT
DTSTART;TZID=America/New_York:20230308T093000
DTEND;TZID=America/New_York:20230308T133000
DTSTAMP:20260420T065423
CREATED:20230303T194247Z
LAST-MODIFIED:20230303T195907Z
UID:2717-1678267800-1678282200@horizonfertilizers.com
SUMMARY:Cudworth Lunch & Learn
DESCRIPTION:On Wednesday March 8th\, our Cudworth location will be holding a Lunch & Learn Day! \nStarting at 9:30am we have Winfield conducting a spray clinic where they’ll discuss the best way to optimize your tank mix and nozzles. Lunch will be provided then Timac Agro will present from 12:30-1pm on their nitrogen stabilizers. Saskatchewan Watersheds will close the meeting by discussing the Prairie Watersheds Climate Program and application details. \nIf you are interested in attending\, please RSVP to Ty at 306-213-8090 by Monday March 6th.
URL:https://horizonfertilizers.com/event/cudworth-lunch-learn/
LOCATION:Cudworth Hall\, Cudworth\, Saskatchewan\, Canada
CATEGORIES:Meeting
ATTACH;FMTTYPE=image/jpeg:https://horizonfertilizers.com/wp-content/uploads/2023/03/Copy-of-Facebook-template-1-e1677872494821.jpg
END:VEVENT
BEGIN:VEVENT
DTSTART;TZID=America/New_York:20230310T190000
DTEND;TZID=America/New_York:20230311T220000
DTSTAMP:20260420T065423
CREATED:20230125T141205Z
LAST-MODIFIED:20230125T141205Z
UID:1810-1678474800-1678572000@horizonfertilizers.com
SUMMARY:Farmers & Family Curling Bonspiel
DESCRIPTION:Join us on March 10th and 11th for a weekend of curling in Cudworth! The event begins at 7pm on Friday and continues throughout Saturday. Lunch on Saturday is sponsorsed by Horizon Fertilizers and will be provided by Leanne Loeffelholz. \nDetails: \n\nLocation: Cudworth Curling Rink\nDate: March 10th and 11th\nTime: 7pm Friday\, All Day Saturday\nRegistration is $80/team\nBar Drinks will be $4 or 6/$20\n\nTo register\, text or call Meaghan at 306-213-7477.
URL:https://horizonfertilizers.com/event/farmers-family-curling-bonspiel/
LOCATION:Cudworth Curling Rink\, 401 King St\, Cudworth\, Saskatchewan\, S0K1B0\, Canada
CATEGORIES:Sponsor Event
ATTACH;FMTTYPE=image/jpeg:https://horizonfertilizers.com/wp-content/uploads/2023/01/Untitled-design-1.jpg
END:VEVENT
BEGIN:VEVENT
DTSTART;TZID=America/New_York:20230314T120000
DTEND;TZID=America/New_York:20230314T130000
DTSTAMP:20260420T065423
CREATED:20230202T224525Z
LAST-MODIFIED:20230202T224525Z
UID:2093-1678795200-1678798800@horizonfertilizers.com
SUMMARY:So you have herbicide resistance\, now what?
DESCRIPTION:Clark Brenzil\, Provincial Weed Control Specialist with Saskatchewan Agriculture will give a presentation on weed herbicide resistance in Saskatchewan and actionable steps to take in 2023 and beyond.
URL:https://horizonfertilizers.com/event/so-you-have-herbicide-resistance-now-what/
LOCATION:Virtual
CATEGORIES:Webinar
ATTACH;FMTTYPE=image/jpeg:https://horizonfertilizers.com/wp-content/uploads/2023/02/Untitled-design-3.jpg
END:VEVENT
BEGIN:VEVENT
DTSTART;TZID=America/New_York:20230316T080000
DTEND;TZID=America/New_York:20230316T213000
DTSTAMP:20260420T065423
CREATED:20230303T195738Z
LAST-MODIFIED:20230310T204943Z
UID:2721-1678953600-1679002200@horizonfertilizers.com
SUMMARY:Bruno Breakfast & Learn
DESCRIPTION:On Thursday March 16th\, our Bruno location will be holding a Breakfast & Learn meeting. \nBreakfast will be served followed by a Nitrogen Stabilizer presentation from Timac Agro. Heather Josephson with Saskatchewan Watersheds will be in attendance and follow with a presentation on the Prairie Watersheds Climate Program and answer any questions on the application process. \nIf you are interested in attending\, please RSVP to Crystal at 306-369-2830 by Wednesday March 15th. \n 
URL:https://horizonfertilizers.com/event/bruno-breakfast-learn/
LOCATION:Bruno Horizon Office
CATEGORIES:Meeting
ATTACH;FMTTYPE=image/jpeg:https://horizonfertilizers.com/wp-content/uploads/2023/03/Copy-of-Facebook-template-1-1-e1677873114952.jpg
END:VEVENT
BEGIN:VEVENT
DTSTART;TZID=America/New_York:20230323T090000
DTEND;TZID=America/New_York:20230323T120000
DTSTAMP:20260420T065423
CREATED:20230309T192113Z
LAST-MODIFIED:20230309T192352Z
UID:3071-1679562000-1679572800@horizonfertilizers.com
SUMMARY:Intercropping Webinar
DESCRIPTION:On March 23rd\, Saskatchewan Agriculture is hosting a webinar focused on intercropping. Hear from a number of local experts such as Michelle Hubbard\, Melissa Telfer\, Shaun Sharpe\, and Brodie Erb on intercropping research and experiences. This webinar is designed to help introduce intercropping while providing additional expertise and advice for all. \nTo register for the event\, go to the bottom of the page and click the GoToWebinar link.
URL:https://horizonfertilizers.com/event/3071/
LOCATION:Virtual
CATEGORIES:Webinar
ATTACH;FMTTYPE=image/jpeg:https://horizonfertilizers.com/wp-content/uploads/2023/02/Untitled-design-3.jpg
END:VEVENT
BEGIN:VEVENT
DTSTART;TZID=America/New_York:20230324T080000
DTEND;TZID=America/New_York:20230324T090000
DTSTAMP:20260420T065423
CREATED:20230303T200956Z
LAST-MODIFIED:20230310T203937Z
UID:2727-1679644800-1679648400@horizonfertilizers.com
SUMMARY:Bruno Breakfast & Learn
DESCRIPTION:On Thursday March 23rd\, our Bruno location will be holding a Breakfast & Learn meeting. \nBreakfast will be served followed by a presentation by Kent Gulash with Humaterra. Kent will discuss soil biology and how the Humaterra H-start products have a potential fit in our area. \nIf you are interested in attending\, please RSVP to Crystal at 306-369-2830 by Tuesday March 21st.
URL:https://horizonfertilizers.com/event/bruno-breakfast-learn-2/
LOCATION:Bruno Horizon Office
CATEGORIES:Meeting
ATTACH;FMTTYPE=image/png:https://horizonfertilizers.com/wp-content/uploads/2023/03/Bruno-Breakfast-and-Learn-1-1-e1677874169635.png
END:VEVENT
END:VCALENDAR