BEGIN:VCALENDAR
VERSION:2.0
PRODID:-//Horizon Fertilizers - ECPv6.15.9//NONSGML v1.0//EN
CALSCALE:GREGORIAN
METHOD:PUBLISH
X-ORIGINAL-URL:https://horizonfertilizers.com
X-WR-CALDESC:Events for Horizon Fertilizers
REFRESH-INTERVAL;VALUE=DURATION:PT1H
X-Robots-Tag:noindex
X-PUBLISHED-TTL:PT1H
BEGIN:VTIMEZONE
TZID:America/New_York
BEGIN:DAYLIGHT
TZOFFSETFROM:-0500
TZOFFSETTO:-0400
TZNAME:EDT
DTSTART:20230312T070000
END:DAYLIGHT
BEGIN:STANDARD
TZOFFSETFROM:-0400
TZOFFSETTO:-0500
TZNAME:EST
DTSTART:20231105T060000
END:STANDARD
BEGIN:DAYLIGHT
TZOFFSETFROM:-0500
TZOFFSETTO:-0400
TZNAME:EDT
DTSTART:20240310T070000
END:DAYLIGHT
BEGIN:STANDARD
TZOFFSETFROM:-0400
TZOFFSETTO:-0500
TZNAME:EST
DTSTART:20241103T060000
END:STANDARD
BEGIN:DAYLIGHT
TZOFFSETFROM:-0500
TZOFFSETTO:-0400
TZNAME:EDT
DTSTART:20250309T070000
END:DAYLIGHT
BEGIN:STANDARD
TZOFFSETFROM:-0400
TZOFFSETTO:-0500
TZNAME:EST
DTSTART:20251102T060000
END:STANDARD
END:VTIMEZONE
BEGIN:VEVENT
DTSTART;TZID=America/New_York:20240213T093000
DTEND;TZID=America/New_York:20240213T153000
DTSTAMP:20260419T202735
CREATED:20240116T195718Z
LAST-MODIFIED:20240116T195831Z
UID:7689-1707816600-1707838200@horizonfertilizers.com
SUMMARY:TopNotch Farming Melfort
DESCRIPTION:SaskCanola is hosting Top Notch Farming extension meetings this winter in partnership with SaskBarley\, and SaskFlax. \nThis event is complimentary for farmers and agronomists to attend. Lunch will be provided. \nAgenda: \n9:30 AM        Opening Remarks – SaskCanola Director \n9:45 AM        Results from SaskCanola’s NEW On-Farm Research Trials Program – Kaeley Kindrachuk\, SaskCanola \n10:30 AM        Verticillium Stripe 101 – Samantha Marcino\, Saskatchewan Agriculture \n11:15 AM        Disease Testing Programs – Sandy Junek\, Discovery Seed Labs \nNoon       Lunch \n1:00 PM        Developments in Flax Breeding Research – Kade Kettenbach\, SaskFlax \n1:30 PM        ADOPT Research – Brianne McInnes\, Northeast Agriculture Research Foundation\n– Demonstrating benefits of seeding date and rate on canola yield and quality\n– Demonstrating the efficacy of foliar-applied nitrogen fixing bacteria for canola \n2:00 PM        Refreshment Break \n2:15 PM        The Latest Buzz on Pollinator Biosecurity – Graham Parsons\, Saskatchewan Agriculture \n3:00 PM        Boosting Barley Beyond Expectations – Mitchell Japp\, SaskBarley \n3:30 PM        Meeting Adjourned \nTo register\, click the following link: https://www.eventbrite.ca/e/top-notch-farming-extension-meeting-melfort-tickets-773326429167?aff=oddtdtcreator
URL:https://horizonfertilizers.com/event/topnotch-farming-melfort/
LOCATION:The Kerry Vickar Centre\, 206 Bemister Ave E\, Melfort\, Saskatchewan\, S0E1A0\, Canada
CATEGORIES:Meeting
ATTACH;FMTTYPE=image/jpeg:https://horizonfertilizers.com/wp-content/uploads/2024/01/https___cdn.evbuc_.com_images_656662909_1901341179163_1_original.jpg
END:VEVENT
BEGIN:VEVENT
DTSTART;TZID=America/New_York:20240215T100000
DTEND;TZID=America/New_York:20240215T143000
DTSTAMP:20260419T202735
CREATED:20231128T214308Z
LAST-MODIFIED:20231128T214438Z
UID:7325-1707991200-1708007400@horizonfertilizers.com
SUMMARY:Humboldt Winter Pulse Meeting
DESCRIPTION:Saskatchewan Pulse Growers invites you to join them for the winter pulse meeting series in Humboldt. This meeting will be in-person only and registration is recommended. \nAgenda\n\n9:45 AM | Registration opens\n10:00 AM | Opening Remarks & Introductions\n10:10 AM | Agronomic Outlook for Pulses – Michael Brown\, Agronomy Manager\, Saskatchewan Pulse Growers\n11:00 AM | Right Genetics\, Right Place: RVT portal\, Pulse Quality Program – Laurie Friesen\, Seed Program Manager\, Saskatchewan Pulse Growers\n11:20 AM | Limagrain Breeding Program Update – Lorena Pahl\, Commercial Product Development Manager\, Limagrain Cereal Seeds\n11:40 AM | Root Rot: Current situation and discussion on projects – Dr. Sabine Banniza\, Professor of Plant Pathology\, Crop Development Centre\, University of Saskatchewan\n12:25 PM | Lunch (45 minutes)\n1:10 PM | Herbicide Resistance Issues – TBA\n1:30 PM | Pulse Market Outlook – Chuck Penner\, President\, LeftField Commodity Research\n2:15 PM | Closing Remarks\n\nTo register\, click the website link: https://saskpulse.com/events/humboldt-winter-pulse-meeting/
URL:https://horizonfertilizers.com/event/humboldt-winter-pulse-meeting/
LOCATION:Humboldt Uniplex\, 619 17th Street\, Humboldt\, Saskatchewan\, S0K2A0\, Canada
CATEGORIES:Meeting
ATTACH;FMTTYPE=image/png:https://horizonfertilizers.com/wp-content/uploads/2023/11/Humboldt-Seminar-February-15th-2023-1.png
END:VEVENT
END:VCALENDAR