BEGIN:VCALENDAR
VERSION:2.0
PRODID:-//Horizon Fertilizers - ECPv6.15.9//NONSGML v1.0//EN
CALSCALE:GREGORIAN
METHOD:PUBLISH
X-ORIGINAL-URL:https://horizonfertilizers.com
X-WR-CALDESC:Events for Horizon Fertilizers
REFRESH-INTERVAL;VALUE=DURATION:PT1H
X-Robots-Tag:noindex
X-PUBLISHED-TTL:PT1H
BEGIN:VTIMEZONE
TZID:America/New_York
BEGIN:DAYLIGHT
TZOFFSETFROM:-0500
TZOFFSETTO:-0400
TZNAME:EDT
DTSTART:20220313T070000
END:DAYLIGHT
BEGIN:STANDARD
TZOFFSETFROM:-0400
TZOFFSETTO:-0500
TZNAME:EST
DTSTART:20221106T060000
END:STANDARD
BEGIN:DAYLIGHT
TZOFFSETFROM:-0500
TZOFFSETTO:-0400
TZNAME:EDT
DTSTART:20230312T070000
END:DAYLIGHT
BEGIN:STANDARD
TZOFFSETFROM:-0400
TZOFFSETTO:-0500
TZNAME:EST
DTSTART:20231105T060000
END:STANDARD
BEGIN:DAYLIGHT
TZOFFSETFROM:-0500
TZOFFSETTO:-0400
TZNAME:EDT
DTSTART:20240310T070000
END:DAYLIGHT
BEGIN:STANDARD
TZOFFSETFROM:-0400
TZOFFSETTO:-0500
TZNAME:EST
DTSTART:20241103T060000
END:STANDARD
END:VTIMEZONE
BEGIN:VEVENT
DTSTART;TZID=America/New_York:20230301T183000
DTEND;TZID=America/New_York:20230301T210000
DTSTAMP:20260421T203720
CREATED:20230227T153000Z
LAST-MODIFIED:20230227T153220Z
UID:2582-1677695400-1677704400@horizonfertilizers.com
SUMMARY:The Biotech Explosion: Amazing Innovations in Agriculture & Medicine
DESCRIPTION:Dr. Folta will be joining Ag-West Bio in Saskatoon to talk about the amazing innovations that have become possible thanks to biotech tools\, like genetic engineering\, gene editing and genomics. \nWe have the technology – but consumers need to understand their value and safety. How can we use communications tools and social media to ensure that we can actually use those technologies? \n_____________________ \nSpeaker Info: \nKevin Folta is a professor and researcher in the horticultural sciences department at the University of Florida. He also produces Talking Biotech\, a weekly podcast that explores how science and technology will transform agriculture and protect the environment\, while helping to feed a growing global population. \nTo purchase tickets and register for the event\, click on the link at the bottom of the page.
URL:https://horizonfertilizers.com/event/the-biotech-explosion/
LOCATION:The Roxy Theatre\, 302 Pacific Ave\, Saskatoon\, Saskatchewan\, S7K 1P2\, Canada
CATEGORIES:Meeting
ATTACH;FMTTYPE=image/jpeg:https://horizonfertilizers.com/wp-content/uploads/2023/02/Black-Modern-Coming-Soon-Twitter-Post.jpg
END:VEVENT
BEGIN:VEVENT
DTSTART;TZID=America/New_York:20230302T100000
DTEND;TZID=America/New_York:20230302T143000
DTSTAMP:20260421T203720
CREATED:20230109T212435Z
LAST-MODIFIED:20230110T164107Z
UID:858-1677751200-1677767400@horizonfertilizers.com
SUMMARY:Saskatchewan Pulse Growers Meeting - Northeast\, SK
DESCRIPTION:Saskatchewan Pulse Growers invites you to join us for the 2023 Half-Day Winter Pulse Meeting at the Kerry Vickar Centre in Melfort\, SK. To register\, click on the website link below. Pre-registration is encouraged\, but not required. \nAgenda\n\n9:45 AM | Registration opens\n10:00 AM | Opening Remarks & Introductions\n10:10 AM | Agronomic Lookback & Outlook – Meagen Reed\, Agronomy Manager\, SPG\n10:30 AM | Right Genetics\, Right Place: RVT Portal & the Pulse Quality Program – Meagen Reed\, Agronomy Manager\, SPG\n10:50 AM | Aphids in Faba Beans – Dr. Sean Prager\, Department of Plant Science\, University of Saskatchewan\n11:20 AM | Phosphate Study – Blake Weiseth\, Applied Research Lead\, Glacier Farm Media Discovery Farm\n11:50 PM | Lunch\n12:25 PM | Root Rots: Current Situation & SPG Investments – Dr. Michelle Hubbard\, Research Scientist\, Pulse Pathology\, Agriculture and Agri-Food Canada\n1:10 PM | Novel Pulse Crops: A Pulse for Every Acre & Opportunities – Robin Lokken\, General Manager\, Conservation Learning Centre\n1:25 PM | Faba Beans: Research\, Agronomy\, & Opportunities – Dale Risula\n1:45 PM | Pulse Market Outlook – Marlene Boersch\, Owner & Managing Partner\, Mercantile Consulting Venture Inc.\n2:25 PM | Closing Remarks
URL:https://horizonfertilizers.com/event/saskatchewan-pulse-growers-meeting-northeast-sk/
LOCATION:The Kerry Vickar Centre\, 206 Bemister Ave E\, Melfort\, Saskatchewan\, S0E1A0\, Canada
CATEGORIES:Meeting
ATTACH;FMTTYPE=image/jpeg:https://horizonfertilizers.com/wp-content/uploads/2023/01/IMG_3230-e1673299410460.jpg
END:VEVENT
BEGIN:VEVENT
DTSTART;TZID=America/New_York:20230308T093000
DTEND;TZID=America/New_York:20230308T133000
DTSTAMP:20260421T203720
CREATED:20230303T194247Z
LAST-MODIFIED:20230303T195907Z
UID:2717-1678267800-1678282200@horizonfertilizers.com
SUMMARY:Cudworth Lunch & Learn
DESCRIPTION:On Wednesday March 8th\, our Cudworth location will be holding a Lunch & Learn Day! \nStarting at 9:30am we have Winfield conducting a spray clinic where they’ll discuss the best way to optimize your tank mix and nozzles. Lunch will be provided then Timac Agro will present from 12:30-1pm on their nitrogen stabilizers. Saskatchewan Watersheds will close the meeting by discussing the Prairie Watersheds Climate Program and application details. \nIf you are interested in attending\, please RSVP to Ty at 306-213-8090 by Monday March 6th.
URL:https://horizonfertilizers.com/event/cudworth-lunch-learn/
LOCATION:Cudworth Hall\, Cudworth\, Saskatchewan\, Canada
CATEGORIES:Meeting
ATTACH;FMTTYPE=image/jpeg:https://horizonfertilizers.com/wp-content/uploads/2023/03/Copy-of-Facebook-template-1-e1677872494821.jpg
END:VEVENT
BEGIN:VEVENT
DTSTART;TZID=America/New_York:20230316T080000
DTEND;TZID=America/New_York:20230316T213000
DTSTAMP:20260421T203720
CREATED:20230303T195738Z
LAST-MODIFIED:20230310T204943Z
UID:2721-1678953600-1679002200@horizonfertilizers.com
SUMMARY:Bruno Breakfast & Learn
DESCRIPTION:On Thursday March 16th\, our Bruno location will be holding a Breakfast & Learn meeting. \nBreakfast will be served followed by a Nitrogen Stabilizer presentation from Timac Agro. Heather Josephson with Saskatchewan Watersheds will be in attendance and follow with a presentation on the Prairie Watersheds Climate Program and answer any questions on the application process. \nIf you are interested in attending\, please RSVP to Crystal at 306-369-2830 by Wednesday March 15th. \n 
URL:https://horizonfertilizers.com/event/bruno-breakfast-learn/
LOCATION:Bruno Horizon Office
CATEGORIES:Meeting
ATTACH;FMTTYPE=image/jpeg:https://horizonfertilizers.com/wp-content/uploads/2023/03/Copy-of-Facebook-template-1-1-e1677873114952.jpg
END:VEVENT
BEGIN:VEVENT
DTSTART;TZID=America/New_York:20230324T080000
DTEND;TZID=America/New_York:20230324T090000
DTSTAMP:20260421T203720
CREATED:20230303T200956Z
LAST-MODIFIED:20230310T203937Z
UID:2727-1679644800-1679648400@horizonfertilizers.com
SUMMARY:Bruno Breakfast & Learn
DESCRIPTION:On Thursday March 23rd\, our Bruno location will be holding a Breakfast & Learn meeting. \nBreakfast will be served followed by a presentation by Kent Gulash with Humaterra. Kent will discuss soil biology and how the Humaterra H-start products have a potential fit in our area. \nIf you are interested in attending\, please RSVP to Crystal at 306-369-2830 by Tuesday March 21st.
URL:https://horizonfertilizers.com/event/bruno-breakfast-learn-2/
LOCATION:Bruno Horizon Office
CATEGORIES:Meeting
ATTACH;FMTTYPE=image/png:https://horizonfertilizers.com/wp-content/uploads/2023/03/Bruno-Breakfast-and-Learn-1-1-e1677874169635.png
END:VEVENT
END:VCALENDAR